BEGIN:VCALENDAR
VERSION:2.0
PRODID:-//CADspace - ECPv4.4.2//NONSGML v1.0//EN
CALSCALE:GREGORIAN
METHOD:PUBLISH
X-WR-CALNAME:CADspace
X-ORIGINAL-URL:http://cadspace.com.au
X-WR-CALDESC:Events for CADspace
BEGIN:VEVENT
DTSTART;TZID=UTC+9:20180329T080000
DTEND;TZID=UTC+9:20180329T170000
DTSTAMP:20180224T083630
CREATED:20180129T234646Z
LAST-MODIFIED:20180130T050126Z
UID:14290-1522310400-1522342800@cadspace.com.au
SUMMARY:SolidWorks Weldments Training
DESCRIPTION:Usually taken in conjunction with the sheet Metal training you will how to create welded structures with standard structural members. Weld beads are also covered.     Duration 1 day. \n[fusion_modal name="contact" title="Contact us today using the form below" size="large" background="" border_color="" show_footer="yes" class="" id=""][contact-form-7 id="14104" title="Contact form 1"][/fusion_modal][fusion_button link="" title="" target="_self" link_attributes="" alignment="center" modal="contact" hide_on_mobile="small-visibility\,medium-visibility\,large-visibility" class="" id="" color="default" button_gradient_top_color="" button_gradient_bottom_color="" button_gradient_top_color_hover="" button_gradient_bottom_color_hover="" accent_color="" accent_hover_color="" type="" bevel_color="" border_width="" size="" stretch="default" shape="" icon="" icon_position="left" icon_divider="no" animation_type="" animation_direction="left" animation_speed="0.3" animation_offset=""]Contact Sales[/fusion_button]\n\nThe training starts at 9:30am and finishes at 5pm – computers\, manuals and lunch is provided. Everything else you’ll need will be provided on the day. \n\nRecommended pre-requisite to this course is that you have attended SolidWorks Essentials training or a few months of frequent SolidWorks usage for design.
URL:http://cadspace.com.au/event/solidworks-weldments-training-7/
LOCATION:G07 25 Solent Circuit\, Baulkham Hills\, NSW\, 2153\, Australia
CATEGORIES:SolidWorks Training
END:VEVENT
BEGIN:VEVENT
DTSTART;TZID=UTC+9:20180327T090000
DTEND;TZID=UTC+9:20180328T170000
DTSTAMP:20180224T083630
CREATED:20180129T234644Z
LAST-MODIFIED:20180130T050047Z
UID:14289-1522141200-1522256400@cadspace.com.au
SUMMARY:SolidWorks Sheetmetal Training
DESCRIPTION:This course teaches you how to build sheet metal parts using SolidWorks. Building standalone sheet metal parts\, and converting conventional parts to sheet metal\, including in assembly context\, are covered.   The course runs for 2 days.\n\n[fusion_modal name="contact" title="Contact us today using the form below" size="large" background="" border_color="" show_footer="yes" class="" id=""][contact-form-7 id="14104" title="Contact form 1"][/fusion_modal][fusion_button link="" title="" target="_self" link_attributes="" alignment="center" modal="contact" hide_on_mobile="small-visibility\,medium-visibility\,large-visibility" class="" id="" color="default" button_gradient_top_color="" button_gradient_bottom_color="" button_gradient_top_color_hover="" button_gradient_bottom_color_hover="" accent_color="" accent_hover_color="" type="" bevel_color="" border_width="" size="" stretch="default" shape="" icon="" icon_position="left" icon_divider="no" animation_type="" animation_direction="left" animation_speed="0.3" animation_offset=""]Contact Sales[/fusion_button]\n\nThe training starts at 9:30am and finishes at 5pm – computers\, manuals and lunch is provided. Everything else you’ll need will be provided on the day. \n\nRecommended pre-requisite to this course is that you have attended SolidWorks Essentials training or a few months of frequent SolidWorks usage for design.\n
URL:http://cadspace.com.au/event/solidworks-sheetmetal-training-6/
LOCATION:G07 25 Solent Circuit\, Baulkham Hills\, NSW\, 2153\, Australia
CATEGORIES:SolidWorks Training
END:VEVENT
BEGIN:VEVENT
DTSTART;TZID=UTC+9:20180326T080000
DTEND;TZID=UTC+9:20180326T170000
DTSTAMP:20180224T083630
CREATED:20180129T234638Z
LAST-MODIFIED:20180130T052130Z
UID:14288-1522051200-1522083600@cadspace.com.au
SUMMARY:Simulation Professional
DESCRIPTION:This 1 day course will provide an in-depth coverage on the advanced topics in Finite Element Analysis (FEA) including heat transfer analysis\, frequency analysis\, fatigue\, stability analysis based on the linear buckling concepts\, 2D simulations (plane stress\, strain and axis symmetry) and pressure vessel modulus. Example of parts and assemblies including those with various gap/contact conditions are reviewed. 
URL:http://cadspace.com.au/event/simulation-professional-3/
LOCATION:G07 25 Solent Circuit\, Baulkham Hills\, NSW\, 2153\, Australia
CATEGORIES:Simulation Training
END:VEVENT
BEGIN:VEVENT
DTSTART;TZID=UTC+9:20180323T090000
DTEND;TZID=UTC+9:20180323T120000
DTSTAMP:20180224T083630
CREATED:20180129T234637Z
LAST-MODIFIED:20180130T045613Z
UID:14287-1521795600-1521806400@cadspace.com.au
SUMMARY:3D Discovery Day
DESCRIPTION:What exactly is 3D CAD all about? These short presentations are designed to introduce you to the world of 3D CAD and show just how easy it is to learn and use and to highlite the numerous benefits of designing in 3D   Duration 2 to 3 hrs
URL:http://cadspace.com.au/event/3d-discovery-day-6/
LOCATION:G07 25 Solent Circuit\, Baulkham Hills\, NSW\, 2153\, Australia
CATEGORIES:Discovery Day
END:VEVENT
BEGIN:VEVENT
DTSTART;TZID=UTC+9:20180319T080000
DTEND;TZID=UTC+9:20180321T170000
DTSTAMP:20180224T083630
CREATED:20180129T234635Z
LAST-MODIFIED:20180130T051759Z
UID:14286-1521446400-1521651600@cadspace.com.au
SUMMARY:SolidWorks Simulation Essentials Training
DESCRIPTION:This course will provide an in-depth coverage on the basics of Finite Element Analysis (FEA)\, covering the entire analysis process from meshing to evaluation of results for parts and assemblies. The class discusses linear stress analysis\, gap/contact analysis\, and best practices.   The course runs for 3 Days
URL:http://cadspace.com.au/event/solidworks-simulation-essentials-training-3/
LOCATION:G07 25 Solent Circuit\, Baulkham Hills\, NSW\, 2153\, Australia
CATEGORIES:Simulation Training
END:VEVENT
BEGIN:VEVENT
DTSTART;TZID=UTC+9:20180316T080000
DTEND;TZID=UTC+9:20180316T120000
DTSTAMP:20180224T083630
CREATED:20180129T234630Z
LAST-MODIFIED:20180130T045715Z
UID:14285-1521187200-1521201600@cadspace.com.au
SUMMARY:Hands on Test Drive
DESCRIPTION:During our hands-on sessions\, one of our certified SolidWorks engineers will guide you through the capabilities of the SolidWorks products. You will experience for yourself the ease-of-use and powerful capabilities that can improve your designs and reduce time-to-market.
URL:http://cadspace.com.au/event/hands-on-test-drive-11/
LOCATION:G07 25 Solent Circuit\, Baulkham Hills\, NSW\, 2153\, Australia
CATEGORIES:Hands on Test Drive
END:VEVENT
BEGIN:VEVENT
DTSTART;TZID=UTC+9:20180314T090000
DTEND;TZID=UTC+9:20180315T170000
DTSTAMP:20180224T083630
CREATED:20180129T234629Z
LAST-MODIFIED:20180130T050855Z
UID:14284-1521018000-1521133200@cadspace.com.au
SUMMARY:Simulation Premium - Dynamic Analysis
DESCRIPTION:This course covers time dependent analysis (force loads as well as motion shock loading examples)       Duration 2 Days. 
URL:http://cadspace.com.au/event/simulation-premium-dynamic-analysis-4/
LOCATION:G07 25 Solent Circuit\, Baulkham Hills\, NSW\, 2153\, Australia
CATEGORIES:Simulation Training
END:VEVENT
BEGIN:VEVENT
DTSTART;TZID=UTC+9:20180314T080000
DTEND;TZID=UTC+9:20180315T170000
DTSTAMP:20180224T083630
CREATED:20180129T234618Z
LAST-MODIFIED:20180130T052339Z
UID:14283-1521014400-1521133200@cadspace.com.au
SUMMARY:Surface Modelling Training
DESCRIPTION:This course teaches how to model and manage complex 3D surfaces in SolidWorks       Duration 2 Days.
URL:http://cadspace.com.au/event/surface-modelling-training-2/
LOCATION:NSW
CATEGORIES:SolidWorks Training
END:VEVENT
BEGIN:VEVENT
DTSTART;TZID=UTC+9:20180312T090000
DTEND;TZID=UTC+9:20180313T170000
DTSTAMP:20180224T083630
CREATED:20180129T234615Z
LAST-MODIFIED:20180130T043044Z
UID:14282-1520845200-1520960400@cadspace.com.au
SUMMARY:SolidWorks Essentials Training Pt2
DESCRIPTION:This course teaches you how to use SolidWorks mechanical design automation software to build parametric models of parts and assemblies\, and how to make drawings of those parts and assemblies.   The course runs for 4 days usually split into two parts over two weeks. \n\n[fusion_modal name="contact" title="Contact us today using the form below" size="large" background="" border_color="" show_footer="yes" class="" id=""][contact-form-7 id="14104" title="Contact form 1"][/fusion_modal][fusion_button link="" title="" target="_self" link_attributes="" alignment="center" modal="contact" hide_on_mobile="small-visibility\,medium-visibility\,large-visibility" class="" id="" color="default" button_gradient_top_color="" button_gradient_bottom_color="" button_gradient_top_color_hover="" button_gradient_bottom_color_hover="" accent_color="" accent_hover_color="" type="" bevel_color="" border_width="" size="" stretch="default" shape="" icon="" icon_position="left" icon_divider="no" animation_type="" animation_direction="left" animation_speed="0.3" animation_offset=""]Book Now[/fusion_button]\n\nThe training starts at 9:30am and finishes at 5pm – computers\, manuals and lunch is provided. Everything else you’ll need will be provided on the day. \n\nRecommended pre-requisite to this course is that you have some design experience\, and have completed Getting Started tutorials within SolidWorks.\n
URL:http://cadspace.com.au/event/solidworks-essentials-training-pt2-8/
LOCATION:G07 25 Solent Circuit\, Baulkham Hills\, NSW\, 2153\, Australia
CATEGORIES:SolidWorks Training
END:VEVENT
BEGIN:VEVENT
DTSTART;TZID=UTC+9:20180309T080000
DTEND;TZID=UTC+9:20180309T120000
DTSTAMP:20180224T083630
CREATED:20180129T234613Z
LAST-MODIFIED:20180130T045721Z
UID:14281-1520582400-1520596800@cadspace.com.au
SUMMARY:Hands on Test Drive
DESCRIPTION:During our hands-on sessions\, one of our certified SolidWorks engineers will guide you through the capabilities of the SolidWorks products. You will experience for yourself the ease-of-use and powerful capabilities that can improve your designs and reduce time-to-market.
URL:http://cadspace.com.au/event/hands-on-test-drive-10/
LOCATION:G07 25 Solent Circuit\, Baulkham Hills\, NSW\, 2153\, Australia
CATEGORIES:Hands on Test Drive
END:VEVENT
BEGIN:VEVENT
DTSTART;TZID=UTC+9:20180307T090000
DTEND;TZID=UTC+9:20180308T170000
DTSTAMP:20180224T083630
CREATED:20180129T234612Z
LAST-MODIFIED:20180130T001935Z
UID:14280-1520413200-1520528400@cadspace.com.au
SUMMARY:SolidWorks Essentials Training Pt1
DESCRIPTION:This course teaches you how to use SolidWorks mechanical design automation software to build parametric models of parts and assemblies\, and how to make drawings of those parts and assemblies.   The course runs for 4 days usually split into two parts over two weeks. \n\n[fusion_modal name="contact" title="Contact us today using the form below" size="large" background="" border_color="" show_footer="yes" class="" id=""][contact-form-7 id="14104" title="Contact form 1"][/fusion_modal][fusion_button link="" title="" target="_self" link_attributes="" alignment="center" modal="contact" hide_on_mobile="small-visibility\,medium-visibility\,large-visibility" class="" id="" color="default" button_gradient_top_color="" button_gradient_bottom_color="" button_gradient_top_color_hover="" button_gradient_bottom_color_hover="" accent_color="" accent_hover_color="" type="" bevel_color="" border_width="" size="" stretch="default" shape="" icon="" icon_position="left" icon_divider="no" animation_type="" animation_direction="left" animation_speed="0.3" animation_offset=""]Book Now[/fusion_button]\n\nThe training starts at 9:30am and finishes at 5pm – computers\, manuals and lunch is provided. Everything else you’ll need will be provided on the day. \n\nRecommended pre-requisite to this course is that you have some design experience\, and have completed Getting Started tutorials within SolidWorks.\n
URL:http://cadspace.com.au/event/solidworks-essentials-training-pt1-8/
LOCATION:G07 25 Solent Circuit\, Baulkham Hills\, NSW\, 2153\, Australia
CATEGORIES:SolidWorks Training
END:VEVENT
BEGIN:VEVENT
DTSTART;TZID=UTC+9:20180228T090000
DTEND;TZID=UTC+9:20180301T170000
DTSTAMP:20180224T083630
CREATED:20180129T225806Z
LAST-MODIFIED:20180130T044928Z
UID:14275-1519808400-1519923600@cadspace.com.au
SUMMARY:Advanced Assemblies Training
DESCRIPTION:Learn how to maximise your use of the assembly modelling capabilities of SolidWorks including “Top-Down” assembly modelling and managing large assemblies.     The course runs for 2 days. \n[fusion_modal name="contact" title="Contact us today using the form below" size="large" background="" border_color="" show_footer="yes" class="" id=""][contact-form-7 id="14104" title="Contact form 1"][/fusion_modal][fusion_button link="" title="" target="_self" link_attributes="" alignment="center" modal="contact" hide_on_mobile="small-visibility\,medium-visibility\,large-visibility" class="" id="" color="default" button_gradient_top_color="" button_gradient_bottom_color="" button_gradient_top_color_hover="" button_gradient_bottom_color_hover="" accent_color="" accent_hover_color="" type="" bevel_color="" border_width="" size="" stretch="default" shape="" icon="" icon_position="left" icon_divider="no" animation_type="" animation_direction="left" animation_speed="0.3" animation_offset=""]Contact Sales[/fusion_button]\n\nThe training starts at 9:30am and finishes at 5pm – computers\, manuals and lunch is provided. Everything else you’ll need will be provided on the day. \n\nRecommended pre-requisite to this course is that you have attended SolidWorks Essentials training or a few months of frequent SolidWorks usage for design.\n
URL:http://cadspace.com.au/event/advanced-assemblies-training-2/
LOCATION:G07 25 Solent Circuit\, Baulkham Hills\, NSW\, 2153\, Australia
CATEGORIES:Discovery Day
END:VEVENT
END:VCALENDAR